BEGIN:VCALENDAR
PRODID:Swiss Mango CMS
VERSION:2.0
METHOD:PUBLISH
BEGIN:VTIMEZONE
TZID:America/New_York
BEGIN:STANDARD
DTSTART:16011104T020000
RRULE:FREQ=YEARLY;BYDAY=1SU;BYMONTH=11
TZOFFSETFROM:-0400
TZOFFSETTO:-0500
END:STANDARD
BEGIN:DAYLIGHT
DTSTART:16010311T020000
RRULE:FREQ=YEARLY;BYDAY=2SU;BYMONTH=3
TZOFFSETFROM:-0500
TZOFFSETTO:-0400
END:DAYLIGHT
END:VTIMEZONE
BEGIN:VEVENT
UID:event-58@www.soroptimist4women.org
DTSTAMP:20260419T200543
DTSTART;TZID=America/New_York:20271208T100000
DTEND;TZID=America/New_York:20271208T120000
SUMMARY:Human Trafficking Coalition of the Palm Beaches
DESCRIPTION:If possible - please join the fight.Â  A mission and focus of SI is to put an end to Human Trafficking & there is no better place to learn more.Â Â This is a serious issue in our world and in our very own state/county.\n\nhttps://www.htcpb.org/\n\nHuman Trafficking Coalition of the Palm Beaches general meetings are scheduled on the SECOND WEDNESDAY of every month\, from 10-12:00. Meetings are held at The Palm Beach Post building: 2751 S. Dixie Hwy\, West Palm Beach\, FL 33405.\nNo RSVP is needed.Â  All are welcome!\nÂ \nHope you can make it!Â  Thank you!\nHeidi Schaeffer MD\nPresident\, Human Trafficking Coalition of the Palm Beaches
X-ALT-DESC;FMTTYPE=text/html:<!DOCTYPE html PUBLIC "-//W3C//DTD XHTML 1.0 Strict//EN" "http://www.w3.org/TR/xhtml1/DTD/xhtml1-strict.dtd">\n<html xmlns="http://www.w3.org/1999/xhtml" style="color: #000\; background: #FFF\;">\n<head>\n<meta http-equiv="Content-Type" content="text/html\; charset=utf-8">\n<title></title>\n</head>\n<body style="margin: 0\; padding: 0\;">\n<div id="body" style="padding: 0\; font: 13px/1.231 arial\,helvetica\,clean\,sans-serif\; margin: 0 auto\; width: 600px\;">\n<div style="margin: 0\; padding: 0\;">\n<p style="margin: 0\; padding: 0\; margin-bottom: 1em\;">If possible - please join the fight.Â  A mission and focus of SI is to put an end to Human Trafficking &amp\; there is no better place to learn more.Â Â This is a serious issue in our world and in our very own state/county.</p>\n<p style="margin: 0\; padding: 0\; margin-bottom: 1em\;"><a href="https://www.htcpb.org/">https://www.htcpb.org/</a></p>\n<p style="margin: 0\; padding: 0\; margin-bottom: 1em\;">Human Trafficking Coalition of the Palm Beaches general meetings are scheduled on the SECOND WEDNESDAY of every month\, from 10-12:00. Meetings are held at The Palm Beach Post building: 2751 S. Dixie Hwy\, West Palm Beach\, FL 33405.<br>\nNo RSVP is needed.Â  All are welcome!<br>\nÂ <br>\nHope you can make it!Â  Thank you!<br>\nHeidi Schaeffer MD<br>\nPresident\, Human Trafficking Coalition of the Palm Beaches</p>\n</div>\n</div>\n</body>\n</html>\n
CATEGORIES:Orange
END:VEVENT
END:VCALENDAR
