BEGIN:VCALENDAR
PRODID:Swiss Mango CMS
VERSION:2.0
METHOD:PUBLISH
BEGIN:VTIMEZONE
TZID:America/New_York
BEGIN:STANDARD
DTSTART:16011104T020000
RRULE:FREQ=YEARLY;BYDAY=1SU;BYMONTH=11
TZOFFSETFROM:-0400
TZOFFSETTO:-0500
END:STANDARD
BEGIN:DAYLIGHT
DTSTART:16010311T020000
RRULE:FREQ=YEARLY;BYDAY=2SU;BYMONTH=3
TZOFFSETFROM:-0500
TZOFFSETTO:-0400
END:DAYLIGHT
END:VTIMEZONE
BEGIN:VEVENT
UID:event-98@www.soroptimist4women.org
DTSTAMP:20260425T152133
DTSTART;TZID=America/New_York:20200209T140000
DTEND;TZID=America/New_York:20200209T150000
SUMMARY:"ONLY ONE" - 45 minute play on human trafficking
DESCRIPTION:~Please attend a play (Only One) and community discussion about sex trafficking locally and globally. If your idea of sex trafficking comes from the movie "Taken" or "Law & Order:SVU" - you need to attend this event and learn the realities of what this crime looks like! This event will help you understand why human trafficking is the second largest illicit business in the world\, how it occurs\, the impact this crime has on victims\, and what you can do to help.\nThis event is sponsored by the FAU School of Criminology & Criminal Justice and the FAU Peace\, Justice & Human Rights Initiative.\n"Only One" is an independent production written and produced by FAU Senior Abigail Howard and her non-profit organization Project Micah 6:8. âOnly Oneâ is a story about three youth that are forced and frauded into sex trafficking\, and their struggle to break free. The event will feature the 45 minute âOnly Oneâ play\, followed by a 10-minute intermission and for those who want to learn more\, a 55-minute expert panel discussion & Q&A.\n\n\n2p.m. showing - expert panelists & guests\nAlma Tucker â International Network of Hearts â Founder & Director of Courage Home\, Mexico\nDr. Heidi Schaeffer\, MD â President of Human Trafficking Coalition of the Palm Beaches\nLt. Sean Bozdech - Palm Beach County Sherrif's Office\, Coordinator Palm Beach County Human Trafficking Task Force\nAlex Ortiz - Child Rescue Coalition - Director of Business Development\nPastor Alfredo Castro â Ministry Relations Directorâ Glory House of Miami â all donations for this event will go directly to Glory House of Miami\, a safe house for survivors of sex trafficking (per Abigailâs wishes).\n\n\n6 p.m. showing â expert panelists\nAlma Tucker â International Network of Hearts â Founder & Director of Courage Home\, Mexico\nDr. Heidi Schaeffer\, MD â President of Human Trafficking Coalition of the Palm Beaches\nLt. Sean Bozdech â Palm Beach County Sherrif's Office\, Coordinator Palm Beach County Human Trafficking Task Force\nDr. Joan Reid\, Ph.D.\, LMHP â Associate Professor of Criminology at the University of South Florida â St. Petersburg\nAlex Ortiz - Child Rescue Coalition - Director of Business Development
X-ALT-DESC;FMTTYPE=text/html:<!DOCTYPE html PUBLIC "-//W3C//DTD XHTML 1.0 Strict//EN" "http://www.w3.org/TR/xhtml1/DTD/xhtml1-strict.dtd">\n<html xmlns="http://www.w3.org/1999/xhtml" style="color: #000\; background: #FFF\;">\n<head>\n<meta http-equiv="Content-Type" content="text/html\; charset=utf-8">\n<title></title>\n</head>\n<body style="margin: 0\; padding: 0\;">\n<div id="body" style="padding: 0\; font: 13px/1.231 arial\,helvetica\,clean\,sans-serif\; margin: 0 auto\; width: 600px\;">\n<div style="margin: 0\; padding: 0\;">\n<p style="margin: 0\; padding: 0\; margin-bottom: 1em\;">~Please attend a play (Only One) and community discussion about sex trafficking locally and globally. If your idea of sex trafficking comes from the movie "Taken" or "Law &amp\; Order:SVU" - you need to attend this event and learn the realities of what this crime looks like! This event will help you understand why human trafficking is the second largest illicit business in the world\, how it occurs\, the impact this crime has on victims\, and what you can do to help.<br>\nThis event is sponsored by the FAU School of Criminology &amp\; Criminal Justice and the FAU Peace\, Justice &amp\; Human Rights Initiative.<br>\n"Only One" is an independent production written and produced by FAU Senior Abigail Howard and her non-profit organization Project Micah 6:8. â€œOnly Oneâ€ is a story about three youth that are forced and frauded into sex trafficking\, and their struggle to break free. The event will feature the 45 minute â€œOnly Oneâ€ play\, followed by a 10-minute intermission and for those who want to learn more\, a 55-minute expert panel discussion &amp\; Q&amp\;A.</p>\n<p style="margin: 0\; padding: 0\; margin-bottom: 1em\;"><br>\n2p.m. showing - expert panelists &amp\; guests<br>\nAlma Tucker â€“ International Network of Hearts â€“ Founder &amp\; Director of Courage Home\, Mexico<br>\nDr. Heidi Schaeffer\, MD â€“ President of Human Trafficking Coalition of the Palm Beaches<br>\nLt. Sean Bozdech - Palm Beach County Sherrif's Office\, Coordinator Palm Beach County Human Trafficking Task Force<br>\nAlex Ortiz - Child Rescue Coalition - Director of Business Development<br>\nPastor Alfredo Castro â€“ Ministry Relations Directorâ€“ Glory House of Miami â€“ all donations for this event will go directly to Glory House of Miami\, a safe house for survivors of sex trafficking (per Abigailâ€™s wishes).</p>\n<p style="margin: 0\; padding: 0\; margin-bottom: 1em\;"><br>\n6 p.m. showing â€“ expert panelists<br>\nAlma Tucker â€“ International Network of Hearts â€“ Founder &amp\; Director of Courage Home\, Mexico<br>\nDr. Heidi Schaeffer\, MD â€“ President of Human Trafficking Coalition of the Palm Beaches<br>\nLt. Sean Bozdech â€“ Palm Beach County Sherrif's Office\, Coordinator Palm Beach County Human Trafficking Task Force<br>\nDr. Joan Reid\, Ph.D.\, LMHP â€“ Associate Professor of Criminology at the University of South Florida â€“ St. Petersburg<br>\nAlex Ortiz - Child Rescue Coalition - Director of Business Development</p>\n</div>\n</div>\n</body>\n</html>\n
CATEGORIES:Events
END:VEVENT
END:VCALENDAR
